{"text_format":"1","workbook":"xlsx","n_sheets":6,"sheets":["RIEPILOGO","Schedanuova","1","2","3","4"],"not_rendered":{"charts":0,"images":0,"macros":1,"external_links":0,"defined_names":0,"comments":5,"pivot_tables":0},"unopened":[],"bounds":{"document_bytes":16777216,"sheet_cells":100000,"rows_first":2000,"rows_last":500,"rows_between":2000,"halvings":0,"cell_chars":16384,"cell_head_chars":4096},"cells_cut":0,"cells_raw":0,"read":"whole","date_system":"1900"}

{"sheet":"RIEPILOGO","index":0,"n_rows":150,"n_cols":12,"rows_kept":150,"cut":false,"hidden":false,"merged":[]}
[null,null,null,"CONTEGGIO RIMANENZE TRATTORI","2018-10-31"]
[null,"FOGLIO","NUM","Descrizione","Costo","Vendita","A Rimanenza",null,null,"TOTALE",null,{"$f":"SUM(G:G)","v":3291.15}]
[]
[{"$f":"HYPERLINK(\"[TRATTORIOK.xlsm]1!$A$1\",B4)","v":"1"},{"$f":"IFERROR(INDIRECT(\"'\"&ROW(B1)&\"'!$Y1\"),\"\")","v":"1"},{"$f":"IFERROR(INDIRECT(\"'\"&ROW(B1)&\"'!$a$1\"),\"\")","v":1},{"$f":"IFERROR(INDIRECT(\"'\"&ROW(B1)&\"'!$B$1\"),\"\")","v":"TELAIO"},{"$f":"IFERROR(IF(INDIRECT(\"'\"&ROW(B1)&\"'!$v$25\")=\"x\",0,INDIRECT(\"'\"&ROW(B1)&\"'!$v$22\")),\"\")","v":2000},{"$f":"IFERROR(INDIRECT(\"'\"&ROW(B1)&\"'!$v$26\"),\"\")","v":"00/00/0000"},{"$f":"IF(F4>$E$1,E4,0)","v":2000},{"$f":"IFERROR(INDIRECT(\"'\"&ROW(D1)&\"'!$b$3\"),\"\")","v":"(PROV. CUSTODE)"}]
[{"$f":"HYPERLINK(\"[TRATTORIOK.xlsm]2!$A$1\",B5)","v":"2"},{"$f":"IFERROR(INDIRECT(\"'\"&ROW(B2)&\"'!$Y1\"),\"\")","v":"2"},{"$f":"IFERROR(INDIRECT(\"'\"&ROW(B2)&\"'!$a$1\"),\"\")","v":1},{"$f":"IFERROR(INDIRECT(\"'\"&ROW(B2)&\"'!$B$1\"),\"\")","v":"RUSPA"},{"$f":"IFERROR(IF(INDIRECT(\"'\"&ROW(B2)&\"'!$v$25\")=\"x\",0,INDIRECT(\"'\"&ROW(B2)&\"'!$v$22\")),\"\")","v":516.46},{"$f":"IFERROR(INDIRECT(\"'\"&ROW(B2)&\"'!$v$26\"),\"\")","v":"00/00/0000"},{"$f":"IF(F5>$E$1,E5,0)","v":516.46},{"$f":"IFERROR(INDIRECT(\"'\"&ROW(D2)&\"'!$b$3\"),\"\")","v":"(PROV. PINCO)"}]
[{"$f":"HYPERLINK(\"[TRATTORIOK.xlsm]3!$A$1\",B6)","v":"3"},"3",1,"RIPPER",{"$f":"IFERROR(IF(INDIRECT(\"'\"&ROW(B3)&\"'!$v$25\")=\"x\",0,INDIRECT(\"'\"&ROW(B3)&\"'!$v$22\")),\"\")","v":774.69},{"$f":"IFERROR(INDIRECT(\"'\"&ROW(B3)&\"'!$v$26\"),\"\")","v":"00/00/0000"},{"$f":"IF(F6>$E$1,E6,0)","v":774.69},{"$f":"IFERROR(INDIRECT(\"'\"&ROW(D3)&\"'!$b$3\"),\"\")","v":"(PROV. PALLINO)"}]
[{"$f":"HYPERLINK(\"[TRATTORIOK.xlsm]4!$A$1\",B7)","v":"4"},"4",1,"MOTORE",{"$f":"IFERROR(IF(INDIRECT(\"'\"&ROW(B4)&\"'!$v$25\")=\"x\",0,INDIRECT(\"'\"&ROW(B4)&\"'!$v$22\")),\"\")","v":15418.44},{"$f":"IFERROR(INDIRECT(\"'\"&ROW(B4)&\"'!$v$26\"),\"\")","v":"2018-10-28"},0,"(PROV.  TIZIO)"]
[{"$f":"HYPERLINK(\"[TRATTORIOK.xlsm]5!$A$1\",B8)","v":""},"","","","","","",""]
[{"$f":"HYPERLINK(\"[TRATTORIOK.xlsm]6!$A$1\",B9)","v":""},"","","","","","",""]
[{"$f":"HYPERLINK(\"[TRATTORIOK.xlsm]7!$A$1\",B10)","v":""},"","","","","","",""]
[{"$f":"HYPERLINK(\"[TRATTORIOK.xlsm]8!$A$1\",B11)","v":""},"","","","","","",""]
[{"$f":"HYPERLINK(\"[TRATTORIOK.xlsm]4!$A$1\",B12)","v":""},"","","","","","",""]
[{"$f":"HYPERLINK(\"[TRATTORIOK.xlsm]4!$A$1\",B13)","v":""},"","","","","","",""]
["","","","","","","",""]
["","","","","","","",""]
["","","","","","","",""]
["","","","","","","",""]
["","","","","","","",""]
["","","","","","","",""]
["","","","","","","",""]
["","","","","","","",""]
["","","","","","","",""]
["","","","","","","",""]
["","","","","","","",""]
["","","","","","","",""]
["","","","","","","",""]
["","","","","","","",""]
["","","","","","","",""]
["","","","","","","",""]
["","","","","","","",""]
["","","","","","","",""]
["","","","","","","",""]
["","","","","","","",""]
["","","","","","","",""]
["","","","","","","",""]
["","","","","","","",""]
["","","","","","","",""]
["","","","","","","",""]
["","","","","","","",""]
["","","","","","","",""]
["","","","","","","",""]
["","","","","","","",""]
["","","","","","","",""]
["","","","","","","",""]
["","","","","","","",""]
["","","","","","","",""]
["","","","","","","",""]
["","","","","","","",""]
["","","","","","","",""]
["","","","","","","",""]
["","",{"$f":"IFERROR(INDIRECT(\"'\"&ROW(B48)&\"'!$a$1\"),\"\")","v":""},{"$f":"IFERROR(INDIRECT(\"'\"&ROW(B48)&\"'!$B$1\"),\"\")","v":""},{"$f":"IFERROR(IF(INDIRECT(\"'\"&ROW(B48)&\"'!$v$25\")=\"x\",0,INDIRECT(\"'\"&ROW(B48)&\"'!$v$22\")),\"\")","v":""},{"$f":"IFERROR(INDIRECT(\"'\"&ROW(B48)&\"'!$v$26\"),\"\")","v":""},{"$f":"IF(F51>$E$1,E51,0)","v":""},{"$f":"IFERROR(INDIRECT(\"'\"&ROW(D48)&\"'!$b$3\"),\"\")","v":""}]
["","","","","","","",""]
["","","","","","","",""]
["","","","","","","",""]
["","","","","","","",""]
["","","","","","","",""]
["","","","","","","",""]
["","","","","","","",""]
["","","","","","","",""]
["","","","","","","",""]
["","","","","","","",""]
["","","","","","","",""]
["","","","","","","",""]
["","","","","","","",""]
["","","","","","","",""]
["","","","","","","",""]
["","","","","","","",""]
["","","","","","","",""]
["",{"$f":"IFERROR(INDIRECT(\"'\"&ROW(B66)&\"'!$Y1\"),\"\")","v":""},"","","","","",""]
["","","","","","","",""]
["","","","","","","",""]
[{"$f":"HYPERLINK(\"[TRATTORIOK.xlsm]4!$A$1\",B72)","v":""},"","","","","","",""]
["","","","","","","",""]
["","","","","","","",""]
["","","","","","","",""]
["","","","","","","",""]
["","","","","","","",""]
["","","","","","","",""]
["","","","","","","",""]
["","","","","","","",""]
["","","","","","","",""]
["","","","","","","",""]
["","","","","","","",""]
["","","","","","","",""]
["","","","","","","",""]
["","","","","","","",""]
["","","","","","","",""]
["","","","","","","",""]
["","","","","","","",""]
["","","","","","","",""]
["","","","","","","",""]
["","","","","","","",""]
["","","","","","","",""]
["","","","","","","",""]
["","","","","","","",""]
["","","","","","","",""]
["","","","","","","",""]
["","","","","","","",""]
["","","","","","","",""]
["","","","","","","",""]
["","","","","","","",""]
["","","","","","","",""]
["","","","","","","",""]
["","","","","","","",""]
["","","","","","","",""]
["","","","","","","",""]
["","","","","","","",""]
["","","","","","","",""]
["","","","","","","",""]
["","","","","","","",""]
["","","","","","","",""]
["","","","","","","",""]
["","","","","","","",""]
["","","","","","","",""]
["","",{"$f":"IFERROR(INDIRECT(\"'\"&ROW(B112)&\"'!$a$1\"),\"\")","v":""},{"$f":"IFERROR(INDIRECT(\"'\"&ROW(B112)&\"'!$B$1\"),\"\")","v":""},{"$f":"IFERROR(IF(INDIRECT(\"'\"&ROW(B112)&\"'!$v$25\")=\"x\",0,INDIRECT(\"'\"&ROW(B112)&\"'!$v$22\")),\"\")","v":""},{"$f":"IFERROR(INDIRECT(\"'\"&ROW(B112)&\"'!$v$26\"),\"\")","v":""},{"$f":"IF(F115>$E$1,E115,0)","v":""},{"$f":"IFERROR(INDIRECT(\"'\"&ROW(D112)&\"'!$b$3\"),\"\")","v":""}]
["","","","","","","",""]
["","","","","","","",""]
["","","","","","","",""]
["","","","","","","",""]
["","","","","","","",""]
["","","","","","","",""]
["","","","","","","",""]
["","","","","","","",""]
["","","","","","","",""]
["","","","","","","",""]
["","","","","","","",""]
["","","","","","","",""]
["","","","","","","",""]
["","","","","","","",""]
["","","","","","","",""]
["","","","","","","",""]
["","","","","","","",""]
["",{"$f":"IFERROR(INDIRECT(\"'\"&ROW(B130)&\"'!$Y1\"),\"\")","v":""},"","","","","",""]
["","","","","","","",""]
["","","","","","","",""]
[{"$f":"HYPERLINK(\"[TRATTORIOK.xlsm]4!$A$1\",B136)","v":""},"","","","","","",""]
["","","","","","","",""]
["","","","","","","",""]
["","","","","","","",""]
["","","","","","","",""]
["","","","","","","",""]
["","","","","","","",""]
["","","","","","","",""]
["","","","","","","",""]
["","","","","","","",""]
["","","","","","","",""]
["","","","","","","",""]
["","","","","","","",""]
["","","","","","","",""]
["","","","","","","",""]

{"sheet":"Schedanuova","index":1,"n_rows":26,"n_cols":53,"rows_kept":26,"cut":false,"hidden":false,"merged":[[14,1,14,19],[16,1,16,19],[18,1,18,19],[24,1,24,19],[0,1,0,20],[4,1,4,19],[6,1,6,19],[8,1,8,19],[10,1,10,19],[12,1,12,19]]}
[1,null,null,null,null,null,null,null,null,null,null,null,null,null,null,null,null,null,null,null,null,null,null,null,{"$f":"MID(CELL(\"filename\",INDIRECT(\"A1\")),FIND(\"]\", CELL(\"filename\" ))+1,99)","v":"Schedanuova"}]
[null,null,null,null,null,null,null,null,null,null,null,null,null,null,null,null,null,null,null,null,null,null,null,null,null,null,null,null,null,null,null,null,null,null,null,null,null,null,null,null,null,null,null,null,null,null,null,null,null,null,null,null,1]
[null,"(PROV. FERRAMENTA)",null,null,null,null,null,null,null,null,null,null,null,null,null,null,"PR.",null,null,null,null,null,null,null,"TORNA A RIEPILOGO",null,null,null,null,null,null,null,null,null,null,null,null,null,null,null,null,null,null,null,null,null,null,null,null,null,null,null,2]
[null,null,null,null,null,null,null,null,null,null,null,null,null,null,null,null,null,null,null,null,null,null,null,null,null,null,null,null,null,null,null,null,null,null,null,null,null,null,null,null,null,null,null,null,null,null,null,null,null,null,null,null,3]
[null,"COSTO ACQUISTO",null,null,null,null,null,null,null,null,null,null,null,null,null,null,null,null,null,null,null,0,null,null,null,null,null,null,null,null,null,null,null,null,null,null,null,null,null,null,null,null,null,null,null,null,null,null,null,null,null,null,4]
[]
[]
[]
[]
[]
[]
[]
[]
[]
[]
[]
[]
[]
[]
[]
[null,null,null,null,null,null,null,null,null,null,null,null,null,null,null,null,null,null,null,null,null,"-------------------"]
[null,null,null,null,null,null,null,null,null,null,null,null,null,null,null,null,null,null,null,null,null,{"$f":"SUM(V5:V21)","v":0}]
[]
[]
[]
[null,null,null,null,null,null,null,null,null,null,null,null,null,null,null,"DATA VENDITA",null,null,null,null,null,"00/00/0000"]

{"sheet":"1","index":2,"n_rows":26,"n_cols":25,"rows_kept":26,"cut":false,"hidden":false,"merged":[[14,1,14,19],[16,1,16,19],[18,1,18,19],[24,1,24,19],[0,1,0,20],[4,1,4,19],[6,1,6,19],[8,1,8,19],[10,1,10,19],[12,1,12,19]]}
[1,"TELAIO",null,null,null,null,null,null,null,null,null,null,null,null,null,null,null,null,null,null,null,null,null,null,{"$f":"MID(CELL(\"filename\",INDIRECT(\"A1\")),FIND(\"]\", CELL(\"filename\" ))+1,99)","v":"1"}]
[]
[null,"(PROV. CUSTODE)",null,null,null,null,null,null,null,null,null,null,null,null,null,null,"PR.",null,null,null,null,null,null,null,"TORNA A RIEPILOGO"]
[]
[null,"COSTO ACQUISTO",null,null,null,null,null,null,null,null,null,null,null,null,null,null,null,null,null,null,null,2000]
[]
[]
[]
[]
[]
[]
[]
[]
[]
[]
[]
[]
[]
[]
[]
[null,null,null,null,null,null,null,null,null,null,null,null,null,null,null,null,null,null,null,null,null,"-------------------"]
[null,null,null,null,null,null,null,null,null,null,null,null,null,null,null,null,null,null,null,null,null,{"$f":"SUM(V5:V21)","v":2000}]
[]
[]
[]
[null,null,null,null,null,null,null,null,null,null,null,null,null,null,null,"DATA VENDITA",null,null,null,null,null,"00/00/0000"]

{"sheet":"2","index":3,"n_rows":26,"n_cols":25,"rows_kept":26,"cut":false,"hidden":false,"merged":[[14,1,14,19],[16,1,16,19],[18,1,18,19],[24,1,24,19],[0,1,0,20],[4,1,4,19],[6,1,6,19],[8,1,8,19],[10,1,10,19],[12,1,12,19]]}
[1,"RUSPA",null,null,null,null,null,null,null,null,null,null,null,null,null,null,null,null,null,null,null,"1993-10-13",null,null,{"$f":"MID(CELL(\"filename\",INDIRECT(\"A1\")),FIND(\"]\", CELL(\"filename\" ))+1,99)","v":"2"}]
[null,"ERANO N. 2"]
[null,"(PROV. PINCO)",null,null,null,null,null,null,null,null,null,null,null,null,null,null,"PR.",null,null,null,null,null,null,null,"TORNA A RIEPILOGO"]
[]
[null,"COSTO ACQUISTO",null,null,null,null,null,null,null,null,null,null,null,null,null,null,null,null,null,null,null,516.46]
[]
[null,"N. 1 VENDUTA…. / RIMASTA N. 1"]
[]
[]
[]
[]
[]
[]
[]
[]
[]
[]
[]
[]
[]
[null,null,null,null,null,null,null,null,null,null,null,null,null,null,null,null,null,null,null,null,null,"-------------------"]
[null,null,null,null,null,null,null,null,null,null,null,null,null,null,null,null,null,null,null,null,null,{"$f":"SUM(V5:V21)","v":516.46}]
[]
[]
[]
[null,null,null,null,null,null,null,null,null,null,null,null,null,null,null,"DATA VENDITA",null,null,null,null,null,"00/00/0000"]

{"sheet":"3","index":4,"n_rows":26,"n_cols":25,"rows_kept":26,"cut":false,"hidden":false,"merged":[[14,1,14,19],[16,1,16,19],[18,1,18,19],[24,1,24,19],[0,1,0,20],[4,1,4,19],[6,1,6,19],[8,1,8,19],[10,1,10,19],[12,1,12,19]]}
[1,"RIPPER",null,null,null,null,null,null,null,null,null,null,null,null,null,null,null,null,null,null,null,"1996-10-30",null,null,{"$f":"MID(CELL(\"filename\",INDIRECT(\"A1\")),FIND(\"]\", CELL(\"filename\" ))+1,99)","v":"3"}]
[]
[null,"(PROV. PALLINO)",null,null,null,null,null,null,null,null,null,null,null,null,null,null,"PR.",null,null,null,null,null,null,null,"TORNA A RIEPILOGO"]
[]
[null,"COSTO ACQUISTO",null,null,null,null,null,null,null,null,null,null,null,null,null,null,null,null,null,null,null,774.69]
[]
[]
[]
[]
[]
[]
[]
[]
[]
[]
[]
[]
[]
[]
[]
[null,null,null,null,null,null,null,null,null,null,null,null,null,null,null,null,null,null,null,null,null,"-------------------"]
[null,null,null,null,null,null,null,null,null,null,null,null,null,null,null,null,null,null,null,null,null,{"$f":"SUM(V5:V21)","v":774.69}]
[]
[]
[]
[null,null,null,null,null,null,null,null,null,null,null,null,null,null,null,"DATA VENDITA",null,null,null,null,null,"00/00/0000"]

{"sheet":"4","index":5,"n_rows":26,"n_cols":25,"rows_kept":26,"cut":false,"hidden":false,"merged":[[14,1,14,19],[16,1,16,19],[18,1,18,19],[24,1,24,19],[0,1,0,20],[4,1,4,19],[6,1,6,19],[8,1,8,19],[10,1,10,19],[12,1,12,19]]}
[1,"MOTORE",null,null,null,null,null,null,null,null,null,null,null,null,null,null,null,null,null,null,null,null,null,null,{"$f":"MID(CELL(\"filename\",INDIRECT(\"A1\")),FIND(\"]\", CELL(\"filename\" ))+1,99)","v":"4"}]
[]
[null,"(PROV.  TIZIO)",null,null,null,null,null,null,null,null,null,null,null,null,null,null,"PR. ",null,null,null,null,null,null,null,"TORNA A RIEPILOGO"]
[]
[null,"COSTO ACQUISTO",null,null,null,null,null,null,null,null,null,null,null,null,null,null,null,null,null,null,null,2000]
[]
[null,"AB10/34-2012",null,null,null,null,null,null,null,null,null,null,null,null,null,null,null,null,null,null,null,13418.44]
[]
[]
[]
[]
[]
[]
[]
[]
[]
[]
[]
[]
[]
[null,null,null,null,null,null,null,null,null,null,null,null,null,null,null,null,null,null,null,null,null,"-------------------"]
[null,null,null,null,null,null,null,null,null,null,null,null,null,null,null,null,null,null,null,null,null,{"$f":"SUM(V5:V21)","v":15418.44}]
[]
[]
[]
[null,null,null,null,null,null,null,null,null,null,null,null,null,null,null,"DATA VENDITA",null,null,null,null,null,"2018-10-28"]